BEGIN:VCALENDAR
VERSION:2.0
PRODID:-//Nele&#039;s Upcycle Studio - ECPv6.15.20//NONSGML v1.0//EN
CALSCALE:GREGORIAN
METHOD:PUBLISH
X-WR-CALNAME:Nele&#039;s Upcycle Studio
X-ORIGINAL-URL:https://nelesupcyclestudio.com
X-WR-CALDESC:Events voor Nele&#039;s Upcycle Studio
REFRESH-INTERVAL;VALUE=DURATION:PT1H
X-Robots-Tag:noindex
X-PUBLISHED-TTL:PT1H
BEGIN:VTIMEZONE
TZID:Europe/Brussels
BEGIN:DAYLIGHT
TZOFFSETFROM:+0100
TZOFFSETTO:+0200
TZNAME:CEST
DTSTART:20230326T010000
END:DAYLIGHT
BEGIN:STANDARD
TZOFFSETFROM:+0200
TZOFFSETTO:+0100
TZNAME:CET
DTSTART:20231029T010000
END:STANDARD
BEGIN:DAYLIGHT
TZOFFSETFROM:+0100
TZOFFSETTO:+0200
TZNAME:CEST
DTSTART:20240331T010000
END:DAYLIGHT
BEGIN:STANDARD
TZOFFSETFROM:+0200
TZOFFSETTO:+0100
TZNAME:CET
DTSTART:20241027T010000
END:STANDARD
BEGIN:DAYLIGHT
TZOFFSETFROM:+0100
TZOFFSETTO:+0200
TZNAME:CEST
DTSTART:20250330T010000
END:DAYLIGHT
BEGIN:STANDARD
TZOFFSETFROM:+0200
TZOFFSETTO:+0100
TZNAME:CET
DTSTART:20251026T010000
END:STANDARD
END:VTIMEZONE
BEGIN:VEVENT
DTSTART;TZID=Europe/Brussels:20241221T140000
DTEND;TZID=Europe/Brussels:20241221T163000
DTSTAMP:20260422T215640
CREATED:20240709T095438Z
LAST-MODIFIED:20241211T145944Z
UID:913-1734789600-1734798600@nelesupcyclestudio.com
SUMMARY:Workshop découpage onderzetters - gepersonaliseerde onderzetters
DESCRIPTION:Ben je geïnteresseerd in creatief bezig zijn en duurzaamheid ? Dan is deze workshop waarschijnlijk iets voor jou! \nBij Nele’s Upcycle Studio draait alles om upcycling. We geloven in het hergebruiken en transformeren van alledaagse voorwerpen tot unieke schatten. Onze passie is namelijk het geven van een tweede leven aan vergeten meubeltjes\, decoratie en meer. Waar we heel erg blij van worden is als we die passie kunnen delen met andere upcycling-enthousiasten en jou kunnen inspireren om deze upcycling beweging verder te zetten. \nTijdens deze workshop leer je de kunst van découpage\, waarbij je oude materialen hergebruikt om unieke onderzetters te maken. Découpage is een techniek waarbij je afbeeldingen en patronen op een oppervlak aanbrengt met lijm en vernis. De onderzetters zelf zijn ook gemaakt van geupcyclede materialen\, namelijk restjes tegels en kurk van verbouwingen. \nWat heeft deze workshop in petto voor jou ? \nCreativiteit: Je krijgt de kans om je creatieve vaardigheden te ontwikkelen door te werken met verschillende materialen en kleuren. \nMilieubewustzijn: Découpage is een vorm van upcycling\, waarbij je oude tijdschriften\, papier en andere materialen een nieuw leven geeft. Het is een duurzame manier om iets moois te creëren. \nPersoonlijke Touch: Je kunt je onderzetters personaliseren met afbeeldingen die voor jou betekenisvol zijn. Denk aan foto’s\, citaten of patronen die bij jou passen. Dit maakt het daarom ook een ideaal cadeau voor jezelf of voor mensen die iets voor je betekenen. \nSociale Interactie: De workshop wordt gehouden in een groepsomgeving\, dus je kunt nieuwe mensen ontmoeten en samen creatief bezig zijn of nieuwe herinneringen maken met een vriendin/ouder/kind/… \nOntdek hoe je met liefde handgemaakte onderzetters kunt maken tijdens deze gezellige workshop! \n  \n\nInschrijven kan via 0456 18 19 20\, via mail op nelesupcyclestudio@outlook.be of via FB\, messenger en instagram.\n\n\nInschrijving is volledig wanneer het inschrijvingsgeld (40 euro/pp) gestort is op BE86 0019 7457 5850 met vermelding van naam en workshop.
URL:https://nelesupcyclestudio.com/event/workshop-gepersonaliseerde-onderzetters/
LOCATION:Nele’s Upcycle Studio\, Bogaardestraat 180\, Maldegem\, 9990\, Belgium
CATEGORIES:Workshop
ATTACH;FMTTYPE=image/png:https://nelesupcyclestudio.com/wp-content/uploads/2024/07/decoupage-onderzetters-8.png
ORGANIZER;CN="Nele's Upcycling Studio":MAILTO:nelesupcyclestudio@outlook.be
END:VEVENT
BEGIN:VEVENT
DTSTART;TZID=Europe/Brussels:20241019T140000
DTEND;TZID=Europe/Brussels:20241019T163000
DTSTAMP:20260422T215640
CREATED:20240709T094808Z
LAST-MODIFIED:20241007T124344Z
UID:907-1729346400-1729355400@nelesupcyclestudio.com
SUMMARY:Workshop découpage onderzetters - gepersonaliseerde onderzetters
DESCRIPTION:Ben je geïnteresseerd in creatief bezig zijn en duurzaamheid ? Dan is deze workshop waarschijnlijk iets voor jou! \nBij Nele’s Upcycle Studio draait alles om upcycling. We geloven in het hergebruiken en transformeren van alledaagse voorwerpen tot unieke schatten. Onze passie is namelijk het geven van een tweede leven aan vergeten meubeltjes\, decoratie en meer. Waar we heel erg blij van worden is als we die passie kunnen delen met andere upcycling-enthousiasten en jou kunnen inspireren om deze upcycling beweging verder te zetten. \nTijdens deze workshop leer je de kunst van découpage\, waarbij je oude materialen hergebruikt om unieke onderzetters te maken. Découpage is een techniek waarbij je afbeeldingen en patronen op een oppervlak aanbrengt met lijm en vernis. De onderzetters zelf zijn ook gemaakt van geupcyclede materialen\, namelijk restjes tegels en kurk van verbouwingen. \nWat heeft deze workshop in petto voor jou ? \nCreativiteit: Je krijgt de kans om je creatieve vaardigheden te ontwikkelen door te werken met verschillende materialen en kleuren. \nMilieubewustzijn: Découpage is een vorm van upcycling\, waarbij je oude tijdschriften\, papier en andere materialen een nieuw leven geeft. Het is een duurzame manier om iets moois te creëren. \nPersoonlijke Touch: Je kunt je onderzetters personaliseren met afbeeldingen die voor jou betekenisvol zijn. Denk aan foto’s\, citaten of patronen die bij jou passen. Dit maakt het daarom ook een ideaal cadeau voor jezelf of voor mensen die iets voor je betekenen. \nSociale Interactie: De workshop wordt gehouden in een groepsomgeving\, dus je kunt nieuwe mensen ontmoeten en samen creatief bezig zijn of nieuwe herinneringen maken met een vriendin/ouder/kind/… \nOntdek hoe je met liefde handgemaakte onderzetters kunt maken tijdens deze gezellige workshop! \n\nInschrijven kan via 0456 18 19 20\, via mail op nelesupcyclestudio@outlook.be of via FB\, messenger en instagram.\n\n\nInschrijving is volledig wanneer het inschrijvingsgeld (45 euro/pp) gestort is op BE86 0019 7457 5850 met vermelding van naam en workshop.
URL:https://nelesupcyclestudio.com/event/gepersonaliseerde-onderzetters/
LOCATION:Nele’s Upcycle Studio\, Bogaardestraat 180\, Maldegem\, 9990\, Belgium
CATEGORIES:Workshop
ATTACH;FMTTYPE=image/png:https://nelesupcyclestudio.com/wp-content/uploads/2024/07/decoupage-onderzetters-8.png
ORGANIZER;CN="Nele's Upcycling Studio":MAILTO:nelesupcyclestudio@outlook.be
END:VEVENT
END:VCALENDAR